BEGIN:VCALENDAR
VERSION:2.0
PRODID:-//ChamberMaster//Event Calendar 2.0//EN
METHOD:PUBLISH
X-PUBLISHED-TTL:P3D
REFRESH-INTERVAL:P3D
CALSCALE:GREGORIAN
BEGIN:VEVENT
DTSTART:20060603T130000Z
DTEND:20060603T130000Z
X-MICROSOFT-CDO-ALLDAYEVENT:FALSE
SUMMARY:14th Annual B & O Bicycle Tour
DESCRIPTION:The 14th Annual B & O Bicycle Tour winds its way through Hendricks County\, crossing the proposed B & O Bicycle trail many times.  You can choose from a 10\, 25\, 45 or 62-mile loop.  Lunch and musical entertainment will be provided following the event.  Cost to be determined.\n\nFor more information contact Jeff Smallwood at (317) 745-2471.  The entry deadline is May 24th.
X-ALT-DESC;FMTTYPE=text/html:The 14th Annual B & O Bicycle Tour winds its way through Hendricks County\, crossing the proposed B & O Bicycle trail many times.  You can choose from a 10\, 25\, 45 or 62-mile loop.  Lunch and musical entertainment will be provided following the event.  Cost to be determined.\n\nFor more information contact Jeff Smallwood at (317) 745-2471.  The entry deadline is May 24th.
LOCATION:Williams Park. Contact Jeff Smallwood at 317-745-2471 for more information or register online at www.BOTrail.org. The entry deadline is May 24th.
UID:e.2778.65
SEQUENCE:3
DTSTAMP:20260424T142316Z
URL:https://www.brownsburg.com/events/details/14th-annual-b-o-bicycle-tour-06-03-2006-65
END:VEVENT

END:VCALENDAR
