BEGIN:VCALENDAR
VERSION:2.0
PRODID:-//ChamberMaster//Event Calendar 2.0//EN
METHOD:PUBLISH
X-PUBLISHED-TTL:P3D
REFRESH-INTERVAL:P3D
CALSCALE:GREGORIAN
BEGIN:VEVENT
DTSTART:20071013T130000Z
DTEND:20071013T130000Z
X-MICROSOFT-CDO-ALLDAYEVENT:FALSE
SUMMARY:1st Annual Firefighters vs. Police Officers/ Charity Softball Tournament
DESCRIPTION:
X-ALT-DESC;FMTTYPE=text/html:
LOCATION:Proceeds to benefit “Hoosier Burn Camp” and “Shop with a Cop” Adults $2:00 children under 10 are free. Fun for the Whole Family: Bounce House\, Fire Safety Trailer\, ID Kits\, Gun Locks and a Silent Auction
UID:e.2778.491
SEQUENCE:3
DTSTAMP:20260423T152805Z
URL:https://www.brownsburg.com/events/details/1st-annual-firefighters-vs-police-officers-charity-softball-tournament-10-13-2007-491
END:VEVENT

END:VCALENDAR
