BEGIN:VCALENDAR
VERSION:2.0
PRODID:-//ChamberMaster//Event Calendar 2.0//EN
METHOD:PUBLISH
X-PUBLISHED-TTL:P3D
REFRESH-INTERVAL:P3D
CALSCALE:GREGORIAN
BEGIN:VEVENT
DTSTART:20050621T230000Z
DTEND:20050622T010000Z
X-MICROSOFT-CDO-ALLDAYEVENT:FALSE
SUMMARY:2005 Hendricks County Night At The Indianapolis Indians Game
DESCRIPTION:
X-ALT-DESC;FMTTYPE=text/html:
LOCATION:Victory Field\, Indianapolis\, IN 46225 Let's Pack the House with Hendricks County residents! Watch the Hendricks County Flyer for more details.
UID:e.2778.23
SEQUENCE:3
DTSTAMP:20260425T105505Z
URL:https://www.brownsburg.com/events/details/2005-hendricks-county-night-at-the-indianapolis-indians-game-06-21-2005-23
END:VEVENT

END:VCALENDAR
