BEGIN:VCALENDAR
VERSION:2.0
PRODID:-//ChamberMaster//Event Calendar 2.0//EN
METHOD:PUBLISH
X-PUBLISHED-TTL:P3D
REFRESH-INTERVAL:P3D
CALSCALE:GREGORIAN
BEGIN:VEVENT
DTSTART;VALUE=DATE:20060805
DTEND;VALUE=DATE:20060806
TRANSP:TRANSPARENT
X-MICROSOFT-CDO-ALLDAYEVENT:TRUE
SUMMARY:25th Annual Kroger 200\, benefitting Riley Hospital for Children\, NASCAR Busch Series Race
DESCRIPTION:
X-ALT-DESC;FMTTYPE=text/html:
LOCATION:10267 East U.S. Highway 136\, Indianapolis\, IN 46234 10267 East U.S. Hwy. 136
UID:e.2778.108
SEQUENCE:3
DTSTAMP:20260424T125925Z
URL:https://www.brownsburg.com/events/details/25th-annual-kroger-200-benefitting-riley-hospital-for-children-nascar-busch-series-race-08-05-2006-108
END:VEVENT

END:VCALENDAR
