BEGIN:VCALENDAR
VERSION:2.0
PRODID:-//ChamberMaster//Event Calendar 2.0//EN
METHOD:PUBLISH
X-PUBLISHED-TTL:P3D
REFRESH-INTERVAL:P3D
CALSCALE:GREGORIAN
BEGIN:VEVENT
DTSTART:20060708T120000Z
DTEND:20060709T210000Z
X-MICROSOFT-CDO-ALLDAYEVENT:FALSE
SUMMARY:2nd Annual Brownsburg Garden Tour
DESCRIPTION:Tickets are on sale for the Brownsburg Garden Tour\, a fundraiser for the Tia Foundation.  The foundation aids rescue and placemenr of abused\, abandoned and neglected animals and provides assistance to the Hendricks County Animal Shelter.  Seven residentual gardens will be featured.  Tours will be 10 a.m. to 5 p.m. July 8 and noon to 5 p.m. july 9.  Cost is $7 in advance and $10 day of tour.  Tickets are available at Wicker Works of Brownsburg\, 860 N. Green Street\, and Country Harmony of Brownsburg\, 809 N. Green Street.
X-ALT-DESC;FMTTYPE=text/html:Tickets are on sale for the Brownsburg Garden Tour\, a fundraiser for the Tia Foundation.  The foundation aids rescue and placemenr of abused\, abandoned and neglected animals and provides assistance to the Hendricks County Animal Shelter.  Seven residentual gardens will be featured.  Tours will be 10 a.m. to 5 p.m. July 8 and noon to 5 p.m. july 9.  Cost is $7 in advance and $10 day of tour.  Tickets are available at Wicker Works of Brownsburg\, 860 N. Green Street\, and Country Harmony of Brownsburg\, 809 N. Green Street.
LOCATION:Advance sale tickets available at Country Harmony and Whicker Works for $7 or $10 the day of tour. For more information contact Carole Scott 317-852-3463. All proceeds benefit the Tia Foundation\, to aid and help homeless animals.
UID:e.2778.259
SEQUENCE:3
DTSTAMP:20260424T125536Z
URL:https://www.brownsburg.com/events/details/2nd-annual-brownsburg-garden-tour-07-08-2006-259
END:VEVENT

END:VCALENDAR
