BEGIN:VCALENDAR
VERSION:2.0
PRODID:-//ChamberMaster//Event Calendar 2.0//EN
METHOD:PUBLISH
X-PUBLISHED-TTL:P3D
REFRESH-INTERVAL:P3D
CALSCALE:GREGORIAN
BEGIN:VEVENT
DTSTART:20100717T120000Z
DTEND:20100717T200000Z
X-MICROSOFT-CDO-ALLDAYEVENT:FALSE
SUMMARY:32nd Annual Festival of the Arts
DESCRIPTION:With its long standing tradition in the Town of Brownsburg\, the Festival of the Arts features more than 200 artisans and craft exhibitors from around the Midwest\, family arts and craft activities\, an entertainment stage and expanded food court. All of this will take place throughout Arbuckle Park for all to enjoy. \nAll proceeds directly benefit the Brownsburg Chamber of Commerce.
X-ALT-DESC;FMTTYPE=text/html:With its long standing tradition in the Town of Brownsburg\, the <b>Festival of the Arts</b> features more than 200 artisans and craft exhibitors from around the Midwest\, family arts and craft activities\, an entertainment stage and expanded food court. All of this will take place throughout Arbuckle Park for all to enjoy. <p>\nAll proceeds directly benefit the Brownsburg Chamber of Commerce. 
LOCATION:Arbuckle Acres Park\, Brownsburg\, IN 46112 http://www.brownsburg.org/department/division.php?fDD=7-160
UID:e.2778.931
SEQUENCE:3
DTSTAMP:20260421T145037Z
URL:https://www.brownsburg.com/events/details/32nd-annual-festival-of-the-arts-07-17-2010-931
END:VEVENT

END:VCALENDAR
