BEGIN:VCALENDAR
VERSION:2.0
PRODID:-//ChamberMaster//Event Calendar 2.0//EN
METHOD:PUBLISH
X-PUBLISHED-TTL:P3D
REFRESH-INTERVAL:P3D
CALSCALE:GREGORIAN
BEGIN:VEVENT
DTSTART:20060629T230000Z
DTEND:20060629T230000Z
X-MICROSOFT-CDO-ALLDAYEVENT:FALSE
SUMMARY:4th Annual Hendricks County Night with the Indians
DESCRIPTION:This great community event returns for it's fourth year and Buy One Get One Free Vouchers are available at the Brownsburg Chamber of Commerce Office (located at 104 E. Main St\; Brownsburg). Special thanks to the 2006 sponsors\, including Hendricks Power\, Hendricks Regional Health\, and the Hendricks County Flyer.
X-ALT-DESC;FMTTYPE=text/html:This great community event returns for it's fourth year and Buy One Get One Free Vouchers are available at the Brownsburg Chamber of Commerce Office (located at 104 E. Main St\; Brownsburg). Special thanks to the 2006 sponsors\, including Hendricks Power\, Hendricks Regional Health\, and the Hendricks County Flyer.\n
LOCATION:at Victory Field\; 501 W. Maryland Street\; Indianapolis. Contact Natlaie Riggins at 718-8750 for more information. Buy One Get One Free Vouchers available at the Brownsburg Chamber Office (104 E. Main Street).
UID:e.2778.199
SEQUENCE:3
DTSTAMP:20260424T142428Z
URL:https://www.brownsburg.com/events/details/4th-annual-hendricks-county-night-with-the-indians-06-29-2006-199
END:VEVENT

END:VCALENDAR
