BEGIN:VCALENDAR
VERSION:2.0
PRODID:-//ChamberMaster//Event Calendar 2.0//EN
METHOD:PUBLISH
X-PUBLISHED-TTL:P3D
REFRESH-INTERVAL:P3D
CALSCALE:GREGORIAN
BEGIN:VEVENT
DTSTART:20060629T220000Z
DTEND:20060705T030000Z
X-MICROSOFT-CDO-ALLDAYEVENT:FALSE
SUMMARY:4th of July Extravaganza sponsored by the Brownsburg Lion's Club
DESCRIPTION:Come out and celebrate the season at the 40th Annual 4th of July Extravaganza!  The Poor Jacks Carnival will run nightly from 6pm to 11pm.  Wristband nights are June 29\, July 2 & 3.  The Corn Tent\, Lion's Kitchen and Merchants Walk will be open nightly from 5pm to 9pm.  For more information on the carnival itself\, visit www.brownsburglionsclub.org.  For more information on the Merchants Walk contact Caroline Demming at 413-5114 or Janet Fisher at 590-3512.
X-ALT-DESC;FMTTYPE=text/html:Come out and celebrate the season at the 40th Annual 4th of July Extravaganza!  The Poor Jacks Carnival will run nightly from 6pm to 11pm.  Wristband nights are June 29\, July 2 & 3.  The Corn Tent\, Lion's Kitchen and Merchants Walk will be open nightly from 5pm to 9pm.  For more information on the carnival itself\, visit www.brownsburglionsclub.org.  For more information on the Merchants Walk contact Caroline Demming at 413-5114 or Janet Fisher at 590-3512.  
LOCATION:200 N. Green Street\, Brownsburg\, IN 46112 Located in Arbuckle Acres Park\; 200 N. Green Street\; Brownsburg. Poor Jacks Carnival (6-11pm)\, Corn Tent (5-9pm)\, Lion's Kitchen (5-9pm)\, and Merchants Walk (5:30-9pm) open nightly.
UID:e.2778.197
SEQUENCE:3
DTSTAMP:20260424T125834Z
URL:https://www.brownsburg.com/events/details/4th-of-july-extravaganza-sponsored-by-the-brownsburg-lion-s-club-06-29-2006-197
END:VEVENT

END:VCALENDAR
