BEGIN:VCALENDAR
VERSION:2.0
PRODID:-//ChamberMaster//Event Calendar 2.0//EN
METHOD:PUBLISH
X-PUBLISHED-TTL:P3D
REFRESH-INTERVAL:P3D
CALSCALE:GREGORIAN
BEGIN:VEVENT
DTSTART:20060210T233000Z
DTEND:20060210T050000Z
X-MICROSOFT-CDO-ALLDAYEVENT:FALSE
SUMMARY:7th Annual St. Valentine's Dinner Dance for Sheltering Wings
DESCRIPTION:This event will be held at Primo West in Plainfield.  Proceeds benefit Shetering Wings.  Visit www.shelteringwings.org for ticket information.
X-ALT-DESC;FMTTYPE=text/html:This event will be held at Primo West in Plainfield.  Proceeds benefit Shetering Wings.  Visit www.shelteringwings.org for ticket information.
LOCATION:This event will be held at Primo West in Plainfield. Proceeds benefit Shetering Wings. Visit www.shelteringwings.org for ticket information.
UID:e.2778.79
SEQUENCE:3
DTSTAMP:20260424T204009Z
URL:https://www.brownsburg.com/events/details/7th-annual-st-valentine-s-dinner-dance-for-sheltering-wings-02-10-2006-79
END:VEVENT

END:VCALENDAR
