BEGIN:VCALENDAR
VERSION:2.0
PRODID:-//ChamberMaster//Event Calendar 2.0//EN
METHOD:PUBLISH
X-PUBLISHED-TTL:P3D
REFRESH-INTERVAL:P3D
CALSCALE:GREGORIAN
BEGIN:VEVENT
DTSTART:20051004T130000Z
DTEND:20051004T143000Z
X-MICROSOFT-CDO-ALLDAYEVENT:FALSE
SUMMARY:A Conversation With OFBCI
DESCRIPTION:Govenor Mitch Daniel's Office of Faith-Based and Community Initiatives will introduce OFBCI\, share plans for key initiatives and engage community members in identifying local needs\, interests\, and acomplishments.  RSVP today to John Rentsch at (317) 234-4032
X-ALT-DESC;FMTTYPE=text/html:Govenor Mitch Daniel's Office of Faith-Based and Community Initiatives will introduce OFBCI\, share plans for key initiatives and engage community members in identifying local needs\, interests\, and acomplishments.  RSVP today to John Rentsch at (317) 234-4032
LOCATION:470 E. Northfield Drive\, Brownsburg\, IN 46112 Brownsburg Fire Territory Training Center\; 470 E. Northfield Drive.
UID:e.2778.42
SEQUENCE:3
DTSTAMP:20260425T030626Z
URL:https://www.brownsburg.com/events/details/a-conversation-with-ofbci-10-04-2005-42
END:VEVENT

END:VCALENDAR
