BEGIN:VCALENDAR
VERSION:2.0
PRODID:-//ChamberMaster//Event Calendar 2.0//EN
METHOD:PUBLISH
X-PUBLISHED-TTL:P3D
REFRESH-INTERVAL:P3D
CALSCALE:GREGORIAN
BEGIN:VEVENT
DTSTART:20061024T230000Z
DTEND:20061024T230000Z
X-MICROSOFT-CDO-ALLDAYEVENT:FALSE
SUMMARY:A Night of Nonprofit Networking
DESCRIPTION:
X-ALT-DESC;FMTTYPE=text/html:
LOCATION:6990 E. Co. Rd. 100 N.\, Avon\, IN 46123 at Park Square Manor\; 6990 E. Co. Rd. 100 N.\; Avon. Take advantage of this opportunity to network with other Hendricks County Charitable Organizations. Light refreshments will be served. RSVP by October 20th to 317-718-1200.
UID:e.2778.361
SEQUENCE:3
DTSTAMP:20260424T100236Z
URL:https://www.brownsburg.com/events/details/a-night-of-nonprofit-networking-10-24-2006-361
END:VEVENT

END:VCALENDAR
