BEGIN:VCALENDAR
VERSION:2.0
PRODID:-//ChamberMaster//Event Calendar 2.0//EN
METHOD:PUBLISH
X-PUBLISHED-TTL:P3D
REFRESH-INTERVAL:P3D
CALSCALE:GREGORIAN
BEGIN:VEVENT
DTSTART:20060302T123000Z
DTEND:20060302T140000Z
X-MICROSOFT-CDO-ALLDAYEVENT:FALSE
SUMMARY:ABC's of Managing Multiple Generations
DESCRIPTION:You're invited to the next Hendricks College Network Breakfast Academy!  Hendricks College Network is partnering with area universities and education providers to bring you the training and information you have always wanted but never had time to investigate!  Each session of the Breakfast Academy will feature an interactive program presented by university experts on topics relevant to Hendricks County Businesses\, Schools and Organizations.\n\nRose Arandt\, SPHR\, Assistant Professor of Business with Indiana Tech will present the interactive program :  ABC's of Managing Multiple Generations on Thursday\, March 2\, 2006 from 7:30am to 9:00am.  This event is generously hosted by Hendricks Regional Health located at 1000 East Main Street in Danville.  A full buffet breakfast is included.\n\nReserve your spot today--seating is limited!  Contact Cathy Bastin at 317-745-9265 or email her at cathybastin@purdue.edu before February 20th.
X-ALT-DESC;FMTTYPE=text/html:You're invited to the next Hendricks College Network Breakfast Academy!  Hendricks College Network is partnering with area universities and education providers to bring you the training and information you have always wanted but never had time to investigate!  Each session of the Breakfast Academy will feature an interactive program presented by university experts on topics relevant to Hendricks County Businesses\, Schools and Organizations.\n\nRose Arandt\, SPHR\, Assistant Professor of Business with Indiana Tech will present the interactive program :  ABC's of Managing Multiple Generations on Thursday\, March 2\, 2006 from 7:30am to 9:00am.  This event is generously hosted by Hendricks Regional Health located at 1000 East Main Street in Danville.  A full buffet breakfast is included.\n\nReserve your spot today--seating is limited!  Contact Cathy Bastin at 317-745-9265 or email her at cathybastin@purdue.edu before February 20th.
LOCATION:1000 East Main Street\, Danville\, IN 46122 Sponsored by the Hendricks College Network\, hosted by Hendricks Regional Health. Full buffet breakfast included! Reserve your spot today! 317-745-9265 by Feb. 20.
UID:e.2778.87
SEQUENCE:3
DTSTAMP:20260424T203847Z
URL:https://www.brownsburg.com/events/details/abc-s-of-managing-multiple-generations-03-02-2006-87
END:VEVENT

END:VCALENDAR
