BEGIN:VCALENDAR
VERSION:2.0
PRODID:-//ChamberMaster//Event Calendar 2.0//EN
METHOD:PUBLISH
X-PUBLISHED-TTL:P3D
REFRESH-INTERVAL:P3D
CALSCALE:GREGORIAN
BEGIN:VEVENT
DTSTART;VALUE=DATE:20070818
DTEND;VALUE=DATE:20070819
TRANSP:TRANSPARENT
X-MICROSOFT-CDO-ALLDAYEVENT:TRUE
SUMMARY:ADAVANCE RACING ASSOCIATION RACE Reschedule date
DESCRIPTION:
X-ALT-DESC;FMTTYPE=text/html:
LOCATION:10267 E. U.S. Highway 136\, Indianapolis\, IN 46234
UID:e.2778.440
SEQUENCE:3
DTSTAMP:20260423T182659Z
URL:https://www.brownsburg.com/events/details/adavance-racing-association-race-reschedule-date-08-18-2007-440
END:VEVENT

END:VCALENDAR
