BEGIN:VCALENDAR
VERSION:2.0
PRODID:-//ChamberMaster//Event Calendar 2.0//EN
METHOD:PUBLISH
X-PUBLISHED-TTL:P3D
REFRESH-INTERVAL:P3D
CALSCALE:GREGORIAN
BEGIN:VEVENT
DTSTART:20050326T020000Z
DTEND:20050326T020000Z
X-MICROSOFT-CDO-ALLDAYEVENT:FALSE
SUMMARY:Adult Easter Egg Hunt
DESCRIPTION:Adult (21 and over) Glow In The Dark Easter Egg Hunt
X-ALT-DESC;FMTTYPE=text/html:Adult (21 and over) Glow In The Dark Easter Egg Hunt
LOCATION:Arbuckle Acres Park\, Brownsburg\, IN 46112 Arbuckle Acres Park
UID:e.2778.3
SEQUENCE:3
DTSTAMP:20260425T135154Z
URL:https://www.brownsburg.com/events/details/adult-easter-egg-hunt-03-25-2005-3
END:VEVENT

END:VCALENDAR
