BEGIN:VCALENDAR
VERSION:2.0
PRODID:-//ChamberMaster//Event Calendar 2.0//EN
METHOD:PUBLISH
X-PUBLISHED-TTL:P3D
REFRESH-INTERVAL:P3D
CALSCALE:GREGORIAN
BEGIN:VEVENT
DTSTART:20090425T220000Z
DTEND:20090426T020000Z
X-MICROSOFT-CDO-ALLDAYEVENT:FALSE
SUMMARY:Adult Senior Prom
DESCRIPTION:Roland Retirement Clubs Announces the 5th Annual Adult Senior Prom A night of Dinner & Dancing\n\nProceeds to benefit services for seniors in Hendricks County. Tickets available at Monroe Bank\, Roland Retirement Clubs & The Hendricks County Flyer
X-ALT-DESC;FMTTYPE=text/html:Roland Retirement Clubs Announces the 5th Annual Adult Senior Prom A night of Dinner & Dancing\n\nProceeds to benefit services for seniors in Hendricks County. Tickets available at Monroe Bank\, Roland Retirement Clubs & The Hendricks County Flyer
LOCATION:Prestwick Country Club Entertainment by the Continentals Dance Club $20.00 per person
UID:e.2778.751
SEQUENCE:3
DTSTAMP:20260422T133052Z
URL:https://www.brownsburg.com/events/details/adult-senior-prom-04-25-2009-751
END:VEVENT

END:VCALENDAR
