BEGIN:VCALENDAR
VERSION:2.0
PRODID:-//ChamberMaster//Event Calendar 2.0//EN
METHOD:PUBLISH
X-PUBLISHED-TTL:P3D
REFRESH-INTERVAL:P3D
CALSCALE:GREGORIAN
BEGIN:VEVENT
DTSTART:20081108T130000Z
DTEND:20081108T160000Z
X-MICROSOFT-CDO-ALLDAYEVENT:FALSE
SUMMARY:All You Can Eat Breakfast
DESCRIPTION:Crossroads Men's Misitries is holding the all-you-can-eat breakfast to raise funds for new Sunday School classrooms For more information you can visit the church website at www.crossroadsavon.org
X-ALT-DESC;FMTTYPE=text/html:Crossroads Men's Misitries is holding the all-you-can-eat breakfast to raise funds for new Sunday School classrooms For more information you can visit the church website at www.crossroadsavon.org
LOCATION:7209 East CR100 South\, Avon Crossroads Men's Ministries is holding the all-you-can-eat breakfast Cost $5 for adults and $1 for children under 10.
UID:e.2778.615
SEQUENCE:3
DTSTAMP:20260422T202337Z
URL:https://www.brownsburg.com/events/details/all-you-can-eat-breakfast-11-08-2008-615
END:VEVENT

END:VCALENDAR
