BEGIN:VCALENDAR
VERSION:2.0
PRODID:-//ChamberMaster//Event Calendar 2.0//EN
METHOD:PUBLISH
X-PUBLISHED-TTL:P3D
REFRESH-INTERVAL:P3D
CALSCALE:GREGORIAN
BEGIN:VEVENT
DTSTART:20240222T123000Z
DTEND:20240222T140000Z
X-MICROSOFT-CDO-ALLDAYEVENT:FALSE
SUMMARY:AM Connect
DESCRIPTION:Join us for an informal morning networking event sponsored by Hoosier Photo Organizer and hosted at various locations each quarter Jan - Oct. Free to attend. Specials offered by host site.
X-ALT-DESC;FMTTYPE=text/html:Join us for an informal morning networking event sponsored by Hoosier Photo Organizer and hosted at various locations each quarter Jan - Oct. Free to attend. Specials offered by host site.&nbsp\;
LOCATION:First quarter - Best Friends Coffee Second quarter - Energy Spot July - Home2Suites by Hilton Aug - Country Club of Indianapolis Sep - Everbowl Oct - Books & Brew
UID:e.2778.8864
SEQUENCE:3
DTSTAMP:20260422T142325Z
URL:https://www.brownsburg.com/events/details/am-connect-02-22-2024-8864
END:VEVENT

END:VCALENDAR
