BEGIN:VCALENDAR
VERSION:2.0
PRODID:-//ChamberMaster//Event Calendar 2.0//EN
METHOD:PUBLISH
X-PUBLISHED-TTL:P3D
REFRESH-INTERVAL:P3D
CALSCALE:GREGORIAN
BEGIN:VEVENT
DTSTART:20250327T113000Z
DTEND:20250327T130000Z
X-MICROSOFT-CDO-ALLDAYEVENT:FALSE
SUMMARY:AM Connect
DESCRIPTION:IGNITE YOUR DAY WITH ENGAGEMENT!  \n\nJoin us for an invigorating morning beverage alongside local Chamber Members at Best Friends Coffee & Bagels in partnership with Weichert\, REALTORS - Cooper Group! This is your chance to forge fresh connections\, broaden your network\, and dive into the heartbeat of our community. Don't forget to bring a friend along for the ride!\n\nDate: Thursday\, March 27th 2025\n\nTime: 7:30-9am\n\nLocation: Best Friends Coffee & Bagels\n\nRegistration is required\, but this is a FREE Event! \n\nGet ready to elevate your morning routine and ignite new possibilities! We can't wait to welcome you there!
X-ALT-DESC;FMTTYPE=text/html:<p>&#127775\;&nbsp\;<strong>IGNITE YOUR DAY WITH ENGAGEMENT!</strong>&nbsp\;&#127775\;</p>\n\n<p>Join us for an invigorating morning beverage alongside local Chamber Members at <a href="https://bestfriendscoffeebagels.com/">Best Friends Coffee &amp\; Bagels</a><strong>&nbsp\;</strong>in partnership with&nbsp\;<a href="https://nathan-pfahler.coopergroupindy.com/"><u><strong>Weichert\, REALTORS - Cooper Group</strong></u></a>!&nbsp\;This is your chance to forge fresh connections\, broaden your network\, and dive into the heartbeat of our community. Don&rsquo\;t forget to bring a friend along for the ride!</p>\n\n<p><strong>Date:</strong>&nbsp\;Thursday\, March 27th 2025<br />\n<strong>Time:</strong>&nbsp\;7:30-9am<br />\n<strong>Location</strong>: Best Friends Coffee &amp\; Bagels</p>\n\n<p><strong>Registration is required\, but this is a FREE Event!</strong>&nbsp\;</p>\n\n<p>Get ready to elevate your morning routine and ignite new possibilities! We can&rsquo\;t wait to welcome you there!&nbsp\;</p>\n
LOCATION:Best Friends Coffee & Bagels 1060 E Main St. Brownsburg\, IN 46112
UID:e.2778.8877
SEQUENCE:3
DTSTAMP:20260425T214407Z
URL:https://www.brownsburg.com/events/details/am-connect-03-27-2025-8877
END:VEVENT

END:VCALENDAR
