BEGIN:VCALENDAR
VERSION:2.0
PRODID:-//ChamberMaster//Event Calendar 2.0//EN
METHOD:PUBLISH
X-PUBLISHED-TTL:P3D
REFRESH-INTERVAL:P3D
CALSCALE:GREGORIAN
BEGIN:VEVENT
DTSTART:20260226T123000Z
DTEND:20260226T140000Z
X-MICROSOFT-CDO-ALLDAYEVENT:FALSE
SUMMARY:AM Connect
DESCRIPTION:Join us for coffee and conversation alongside our event sponsor Weichert\, Realtors - Cooper Group.  We will be at The Hideout.
X-ALT-DESC;FMTTYPE=text/html:Join us for coffee and conversation alongside our event sponsor Weichert\, Realtors - Cooper Group.&nbsp\; We will be at <a href="http://hendrickshideout.com">The Hideout.</a>
LOCATION:The Hideout 554 Pit Rd\, Unit 2 Brownsburg\, IN 46112
UID:e.2778.9176
SEQUENCE:3
DTSTAMP:20260425T033836Z
URL:https://www.brownsburg.com/events/details/am-connect-9176
END:VEVENT

END:VCALENDAR
