BEGIN:VCALENDAR
VERSION:2.0
PRODID:-//ChamberMaster//Event Calendar 2.0//EN
METHOD:PUBLISH
X-PUBLISHED-TTL:P3D
REFRESH-INTERVAL:P3D
CALSCALE:GREGORIAN
BEGIN:VEVENT
DTSTART:20260326T113000Z
DTEND:20260326T130000Z
X-MICROSOFT-CDO-ALLDAYEVENT:FALSE
SUMMARY:AM Connect
DESCRIPTION:Join us for coffee and conversation alongside our event sponsor Weichert\, Realtors - Cooper Group.  We will be at the Union Green Apartments
X-ALT-DESC;FMTTYPE=text/html:Join us for coffee and conversation alongside our event sponsor Weichert\, Realtors - Cooper Group.&nbsp\; We will be at the <a href="https://www.uniongreen-apts.com/">Union Green Apartments</a>
LOCATION:Union Green 5793 Green St. Brownsburg\, IN 46112
UID:e.2778.9177
SEQUENCE:3
DTSTAMP:20260425T002151Z
URL:https://www.brownsburg.com/events/details/am-connect-9177
END:VEVENT

END:VCALENDAR
