BEGIN:VCALENDAR
VERSION:2.0
PRODID:-//ChamberMaster//Event Calendar 2.0//EN
METHOD:PUBLISH
X-PUBLISHED-TTL:P3D
REFRESH-INTERVAL:P3D
CALSCALE:GREGORIAN
BEGIN:VEVENT
DTSTART:20260423T113000Z
DTEND:20260423T130000Z
X-MICROSOFT-CDO-ALLDAYEVENT:FALSE
SUMMARY:AM Connect
DESCRIPTION:Join us for coffee and conversation alongside our event sponsor Weichert\, Realtors - Cooper Group.
X-ALT-DESC;FMTTYPE=text/html:Join us for coffee and conversation alongside our event sponsor Weichert\, Realtors - Cooper Group.&nbsp\;&nbsp\;
LOCATION:Brownsburg Public Library 450 S Jefferson St\, Brownsburg\, IN 46112
UID:e.2778.9178
SEQUENCE:3
DTSTAMP:20260421T083436Z
URL:https://www.brownsburg.com/events/details/am-connect-9178
END:VEVENT

END:VCALENDAR
