BEGIN:VCALENDAR
VERSION:2.0
PRODID:-//ChamberMaster//Event Calendar 2.0//EN
METHOD:PUBLISH
X-PUBLISHED-TTL:P3D
REFRESH-INTERVAL:P3D
CALSCALE:GREGORIAN
BEGIN:VEVENT
DTSTART:20100914T093000Z
DTEND:20101021T103000Z
X-MICROSOFT-CDO-ALLDAYEVENT:FALSE
SUMMARY:AM FITNESS BOOT CAMP
DESCRIPTION:WILL MEET FROM 5:30 AM TO 6:30 AM EACH TUESDAY AND THURSDAY FROM SEPTEMBER 14 TO OCTOBER 21.  ENLIST BY 9/7/10 FOR $30\; AND $35 AFTER 9/7/10.
X-ALT-DESC;FMTTYPE=text/html:WILL MEET FROM 5:30 AM TO 6:30 AM EACH TUESDAY AND THURSDAY FROM SEPTEMBER 14 TO OCTOBER 21.  ENLIST BY 9/7/10 FOR $30\; AND $35 AFTER 9/7/10.
LOCATION:1800 North Green Street\, Brownsburg\, IN 46112
UID:e.2778.1011
SEQUENCE:3
DTSTAMP:20260421T102421Z
URL:https://www.brownsburg.com/events/details/am-fitness-boot-camp-09-14-2010-1011
END:VEVENT

END:VCALENDAR
