BEGIN:VCALENDAR
VERSION:2.0
PRODID:-//ChamberMaster//Event Calendar 2.0//EN
METHOD:PUBLISH
X-PUBLISHED-TTL:P3D
REFRESH-INTERVAL:P3D
CALSCALE:GREGORIAN
BEGIN:VEVENT
DTSTART:20051106T230000Z
DTEND:20051106T230000Z
X-MICROSOFT-CDO-ALLDAYEVENT:FALSE
SUMMARY:American Cancer Society Relay for Life Meeting
DESCRIPTION:Join us to learn what Relay For Life is\, and how you can become a part of this life changing movement in Brownsburg!\n\nSunday\, November 6\, 2006\, 6:00 p.m.\nBrownsburg High School Cafeteria (enter door #5)\nFor more information call Deb at 858-0362 or \nemail brownsburgrelay@indy.rr.com
X-ALT-DESC;FMTTYPE=text/html:Join us to learn what Relay For Life is\, and how you can become a part of this life changing movement in Brownsburg!\n\nSunday\, November 6\, 2006\, 6:00 p.m.\nBrownsburg High School Cafeteria (enter door #5)\nFor more information call Deb at 858-0362 or \nemail brownsburgrelay@indy.rr.com\n
LOCATION:BHS Cafeteria\, Door #5\; 1000 S. Odell
UID:e.2778.53
SEQUENCE:3
DTSTAMP:20260425T031415Z
URL:https://www.brownsburg.com/events/details/american-cancer-society-relay-for-life-meeting-11-06-2005-53
END:VEVENT

END:VCALENDAR
