BEGIN:VCALENDAR
VERSION:2.0
PRODID:-//ChamberMaster//Event Calendar 2.0//EN
METHOD:PUBLISH
X-PUBLISHED-TTL:P3D
REFRESH-INTERVAL:P3D
CALSCALE:GREGORIAN
BEGIN:VEVENT
DTSTART;VALUE=DATE:20060303
DTEND;VALUE=DATE:20060304
TRANSP:TRANSPARENT
X-MICROSOFT-CDO-ALLDAYEVENT:TRUE
SUMMARY:American Cancer Society's Daffodil Days
DESCRIPTION:Daffodil Days is an exciting special event representing hope in the fight against cancer.  People give a minimum donation in exchange for a bunch of 10 fresh-cut daffodils which have been transported from the daffodil fields on the West Coast.  They are offered in advance of their normal blooming schedule and\, thus\, give a head start to spring.\n\nDaffodils were selected for this event since this flower represents the symbol of hope\, much the same way the American Cancer Society does.  \n\nOriginally initiated by the Canadian Cancer Society\, Daffodil Days was started in the American Cancer Society in 1970.  Millions of flowers are distributed by the American Cancer Society each year.\n\nNew this year\, people can also give a donation to the Gift of Hope\, which allows your American Cancer Society to deliver daffodils to local patients\, nursing homes and those in need of a gift of hope in your community.  Please indicate this when calling.\n\nPricing:\nBunch of 10 flowers $7.00\nWith Vase $10.00\nFull case (50 bunches) $350.00\n\nThe order deadline is March 3\, 2006.\n\nFor more information on ordering or to volunteer\, call (317) 347-6670.\n\nFlowers will be available for delivery on Wednesday\, March 15\, Thursday\, March 16 and Friday\, March 17 for orders of $35 or more.\n\nFlowers will be available for pickup on Wednesday\, March 15 or Thursday\, March 16 at Welch Wholesale Florist (1611 Aqueduct St\, Indianapolis) form 9a.m. to 2p.m.
X-ALT-DESC;FMTTYPE=text/html:Daffodil Days is an exciting special event representing hope in the fight against cancer.  People give a minimum donation in exchange for a bunch of 10 fresh-cut daffodils which have been transported from the daffodil fields on the West Coast.  They are offered in advance of their normal blooming schedule and\, thus\, give a head start to spring.\n\nDaffodils were selected for this event since this flower represents the symbol of hope\, much the same way the American Cancer Society does.  \n\nOriginally initiated by the Canadian Cancer Society\, Daffodil Days was started in the American Cancer Society in 1970.  Millions of flowers are distributed by the American Cancer Society each year.\n\nNew this year\, people can also give a donation to the Gift of Hope\, which allows your American Cancer Society to deliver daffodils to local patients\, nursing homes and those in need of a gift of hope in your community.  Please indicate this when calling.\n\nPricing:\nBunch of 10 flowers $7.00\nWith Vase $10.00\nFull case (50 bunches) $350.00\n\nThe order deadline is March 3\, 2006.\n\nFor more information on ordering or to volunteer\, call (317) 347-6670.\n\nFlowers will be available for delivery on Wednesday\, March 15\, Thursday\, March 16 and Friday\, March 17 for orders of $35 or more.\n\nFlowers will be available for pickup on Wednesday\, March 15 or Thursday\, March 16 at Welch Wholesale Florist (1611 Aqueduct St\, Indianapolis) form 9a.m. to 2p.m.
LOCATION:6030 W. 62nd St.\, Indianapolis\, IN 46278 Order deadline is March 3rd. Call Tammy at (317) 347-6670 to order or to volunteer. $7 for 10 fresh-cut daffodils\, $10 for flowers and vase or $350 for a full case of flowers. Great for a business giveaway (plus you can write it off)!!!!
UID:e.2778.98
SEQUENCE:3
DTSTAMP:20260424T192203Z
URL:https://www.brownsburg.com/events/details/american-cancer-society-s-daffodil-days-03-03-2006-98
END:VEVENT

END:VCALENDAR
