BEGIN:VCALENDAR
VERSION:2.0
PRODID:-//ChamberMaster//Event Calendar 2.0//EN
METHOD:PUBLISH
X-PUBLISHED-TTL:P3D
REFRESH-INTERVAL:P3D
CALSCALE:GREGORIAN
BEGIN:VEVENT
DTSTART;VALUE=DATE:20061021
DTEND;VALUE=DATE:20061022
TRANSP:TRANSPARENT
X-MICROSOFT-CDO-ALLDAYEVENT:TRUE
SUMMARY:American Cancer Society's Making Strides Against Breast Cancer Walk
DESCRIPTION:
X-ALT-DESC;FMTTYPE=text/html:
LOCATION:Celebration Plaza\, White River State Park\; Indianapolis. Contact Tammy at 280-6614 to learn how to form a team or make a donation in the fight against breast cancer.
UID:e.2778.316
SEQUENCE:3
DTSTAMP:20260424T090039Z
URL:https://www.brownsburg.com/events/details/american-cancer-society-s-making-strides-against-breast-cancer-walk-10-21-2006-316
END:VEVENT

END:VCALENDAR
