BEGIN:VCALENDAR
VERSION:2.0
PRODID:-//ChamberMaster//Event Calendar 2.0//EN
METHOD:PUBLISH
X-PUBLISHED-TTL:P3D
REFRESH-INTERVAL:P3D
CALSCALE:GREGORIAN
BEGIN:VEVENT
DTSTART:20060913T150000Z
DTEND:20060913T220000Z
X-MICROSOFT-CDO-ALLDAYEVENT:FALSE
SUMMARY:Annual Brownsburg Chamber of Commerce Golf Outing
DESCRIPTION:The 2006 Annual Chamber Golf Outing will take place on Wednesday September 13th\, 2006\, at the West Chase Golf Club. \nLunch will begin at 11:00a.m.  A shotgun start will take place at approximately noon.  Following 18 holes of golf will be awards and snacks in the Clubhouse.\n\nSponsors\, donations\, foursomes & volunteers are needed.  Contact Walt or Jennifer at the Chamber office for more information on these opportunities (317) 852-7885.
X-ALT-DESC;FMTTYPE=text/html:The 2006 Annual Chamber Golf Outing will take place on Wednesday September 13th\, 2006\, at the West Chase Golf Club. \nLunch will begin at 11:00a.m.  A shotgun start will take place at approximately noon.  Following 18 holes of golf will be awards and snacks in the Clubhouse.\n\nSponsors\, donations\, foursomes & volunteers are needed.  Contact Walt or Jennifer at the Chamber office for more information on these opportunities (317) 852-7885.\n\n
LOCATION:4 Hollaway Boulevard\, Brownsburg\, IN 46112 at West Chase Golf Club. Contact Walt at 852-7885 to register your foursome or sponsor a hole today!
UID:e.2778.54
SEQUENCE:3
DTSTAMP:20260424T100425Z
URL:https://www.brownsburg.com/events/details/annual-brownsburg-chamber-of-commerce-golf-outing-09-13-2006-54
END:VEVENT

END:VCALENDAR
