BEGIN:VCALENDAR
VERSION:2.0
PRODID:-//ChamberMaster//Event Calendar 2.0//EN
METHOD:PUBLISH
X-PUBLISHED-TTL:P3D
REFRESH-INTERVAL:P3D
CALSCALE:GREGORIAN
BEGIN:VEVENT
DTSTART:20211113T230000Z
DTEND:20211114T030000Z
X-MICROSOFT-CDO-ALLDAYEVENT:FALSE
SUMMARY:Annual Chamber Trivia Night
DESCRIPTION:Think YOU Know It ALL?  Join us for a fun evening with friends\, family and co-workers and test your knowledge...for prizes and bragging rights!  Create a prize winning team theme and carry it out with your team name\, table decor\, costumes and snacks! Celebrity judging and prizes this year!
X-ALT-DESC;FMTTYPE=text/html:<span style="font-size:16px\;"><strong>Think YOU Know It ALL?</strong></span>&nbsp\; <span style="font-size:16px\;"><strong>Join us for a fun evening with friends\, family and co-workers and test your knowledge...for prizes and bragging rights!&nbsp\; Create a prize winning team theme and carry it out with your team name\, table decor\, costumes and snacks! Celebrity judging and prizes this year!</strong></span>
LOCATION:West Chase Golf Club Brownsburg
UID:e.2778.6657
SEQUENCE:3
DTSTAMP:20260421T054659Z
URL:https://www.brownsburg.com/events/details/annual-chamber-trivia-night-6657
END:VEVENT

END:VCALENDAR
