BEGIN:VCALENDAR
VERSION:2.0
PRODID:-//ChamberMaster//Event Calendar 2.0//EN
METHOD:PUBLISH
X-PUBLISHED-TTL:P3D
REFRESH-INTERVAL:P3D
CALSCALE:GREGORIAN
BEGIN:VEVENT
DTSTART:20050320T133000Z
DTEND:20050320T133000Z
X-MICROSOFT-CDO-ALLDAYEVENT:FALSE
SUMMARY:Annual Easter Festival-Whitlick Presbyterian Church
DESCRIPTION:Palm Sunday Services at 8:30am and 10:30am.\nAnnual Easter Festival starts at 5:00pm with an Easter Egg Hunt\, Dinner & Desserts\, crafts\, games and other fun.
X-ALT-DESC;FMTTYPE=text/html:Palm Sunday Services at 8:30am and 10:30am.\nAnnual Easter Festival starts at 5:00pm with an Easter Egg Hunt\, Dinner & Desserts\, crafts\, games and other fun.
LOCATION:Whitelick Presbyterian Church\, Avon\, IN 46123
UID:e.2778.5
SEQUENCE:3
DTSTAMP:20260425T135841Z
URL:https://www.brownsburg.com/events/details/annual-easter-festival-whitlick-presbyterian-church-03-20-2005-5
END:VEVENT

END:VCALENDAR
