BEGIN:VCALENDAR
VERSION:2.0
PRODID:-//ChamberMaster//Event Calendar 2.0//EN
METHOD:PUBLISH
X-PUBLISHED-TTL:P3D
REFRESH-INTERVAL:P3D
CALSCALE:GREGORIAN
BEGIN:VEVENT
DTSTART;VALUE=DATE:20060802
DTEND;VALUE=DATE:20060803
TRANSP:TRANSPARENT
X-MICROSOFT-CDO-ALLDAYEVENT:TRUE
SUMMARY:Applebee's Fundraiser for Bret Neylon
DESCRIPTION:
X-ALT-DESC;FMTTYPE=text/html:
LOCATION:2 Whittington Drive\, Brownsburg\, IN 46112 2 Whittington Drive\, Brownsburg. Present flyer to your server at lunch\, dinner or any Carside To Go order and Applebee's will donate 15% of your purchase to "Brownsburg Football for Bret Neylon". To receive this flyer\, email jmckenzie@brownsburg.com.
UID:e.2778.282
SEQUENCE:3
DTSTAMP:20260424T113917Z
URL:https://www.brownsburg.com/events/details/applebee-s-fundraiser-for-bret-neylon-08-02-2006-282
END:VEVENT

END:VCALENDAR
