BEGIN:VCALENDAR
VERSION:2.0
PRODID:-//ChamberMaster//Event Calendar 2.0//EN
METHOD:PUBLISH
X-PUBLISHED-TTL:P3D
REFRESH-INTERVAL:P3D
CALSCALE:GREGORIAN
BEGIN:VEVENT
DTSTART:20070714T120000Z
DTEND:20070714T190000Z
X-MICROSOFT-CDO-ALLDAYEVENT:FALSE
SUMMARY:ARTS IN THE PARK
DESCRIPTION:29th annual arts in the park show.  Arts and crafts that are hand-made from all over the United States.
X-ALT-DESC;FMTTYPE=text/html:29th annual arts in the park show.  Arts and crafts that are hand-made from all over the United States.
LOCATION:Arbuckle Acres Park\, Brownsburg\, IN 46112 North of RR tracks at SR267 & Lucas Dr
UID:e.2778.425
SEQUENCE:3
DTSTAMP:20260423T195623Z
URL:https://www.brownsburg.com/events/details/arts-in-the-park-07-14-2007-425
END:VEVENT

END:VCALENDAR
