BEGIN:VCALENDAR
VERSION:2.0
PRODID:-//ChamberMaster//Event Calendar 2.0//EN
METHOD:PUBLISH
X-PUBLISHED-TTL:P3D
REFRESH-INTERVAL:P3D
CALSCALE:GREGORIAN
BEGIN:VEVENT
DTSTART:20060422T140000Z
DTEND:20060422T200000Z
X-MICROSOFT-CDO-ALLDAYEVENT:FALSE
SUMMARY:ArtsGo! Presented by Hendricks County Arts Council
DESCRIPTION:A tour on  April 22\, 2006 10:00AM-4:00PM    \n               To: More than 25 sites throughout Hendricks  \n                County will include Painting\, Sculpture\,  \n                Photography\, Glass\, Pottery\, Basket and Rug \n                Weaving\, Printmaking\, Wood Carving\,\n                Music\, Dance\, Theatre\, Ceramics\, Eggart\,\n                Winery Tours\,  Spinning\, Doll Making\,\n                 Private Studio Tours.\nFive Public Libraries and two schools will participate in partnership with private studios\, shops and a bank and a mall as sites for workshops\, performances\, refreshments\, displays and demonstrations of art techniques . Danville Parks Department will open Blanton House.\n                 A door prize will be given.\n   \nTickets: $10 available at Marsh Supermarkets in Plainfield and Brownsburg\, all branches of State Bank of Lizton\, all branches of North Salem State Bank beginning April 4.\nMajor Contributers: Hendricks Regional Health           \n                                 Hendricks Power\n                                 McDonalds\n HCAC showcases the art and artists of Hendricks County\,    \n HCAC is  a Not-For-Profit corporation.\nContact: Bonnie Rose Smith Chairperson [317]852
X-ALT-DESC;FMTTYPE=text/html:A tour on  April 22\, 2006 10:00AM-4:00PM    \n               To: More than 25 sites throughout Hendricks  \n                County will include Painting\, Sculpture\,  \n                Photography\, Glass\, Pottery\, Basket and Rug \n                Weaving\, Printmaking\, Wood Carving\,\n                Music\, Dance\, Theatre\, Ceramics\, Eggart\,\n                Winery Tours\,  Spinning\, Doll Making\,\n                 Private Studio Tours.\nFive Public Libraries and two schools will participate in partnership with private studios\, shops and a bank and a mall as sites for workshops\, performances\, refreshments\, displays and demonstrations of art techniques . Danville Parks Department will open Blanton House.\n                 A door prize will be given.\n   \nTickets: $10 available at Marsh Supermarkets in Plainfield and Brownsburg\, all branches of State Bank of Lizton\, all branches of North Salem State Bank beginning April 4.\nMajor Contributers: Hendricks Regional Health           \n                                 Hendricks Power\n                                 McDonalds\n HCAC showcases the art and artists of Hendricks County\,    \n HCAC is  a Not-For-Profit corporation.\nContact: Bonnie Rose Smith Chairperson [317]852
LOCATION:Tour more than 25 sites throughout Hendricks County that will include painting\, sculpture\, photography\, glass\, pottery\, basket and rug weaving and more! Tickets are $10 each and can be purchased at Marsh\, State Bank of Lizton and North Salem State Banks. Click the title above for more information.
UID:e.2778.181
SEQUENCE:3
DTSTAMP:20260424T173400Z
URL:https://www.brownsburg.com/events/details/artsgo-presented-by-hendricks-county-arts-council-04-22-2006-181
END:VEVENT

END:VCALENDAR
