BEGIN:VCALENDAR
VERSION:2.0
PRODID:-//ChamberMaster//Event Calendar 2.0//EN
METHOD:PUBLISH
X-PUBLISHED-TTL:P3D
REFRESH-INTERVAL:P3D
CALSCALE:GREGORIAN
BEGIN:VEVENT
DTSTART;VALUE=DATE:20050609
DTEND;VALUE=DATE:20050610
TRANSP:TRANSPARENT
X-MICROSOFT-CDO-ALLDAYEVENT:TRUE
SUMMARY:ASA Series - IRP
DESCRIPTION:
X-ALT-DESC;FMTTYPE=text/html:
LOCATION:10267 East U.S. Highway 136\, Indianapolis\, IN 46234 Indianapolis Raceway Park
UID:e.2778.12
SEQUENCE:3
DTSTAMP:20260425T105116Z
URL:https://www.brownsburg.com/events/details/asa-series-irp-06-09-2005-12
END:VEVENT

END:VCALENDAR
