BEGIN:VCALENDAR
VERSION:2.0
PRODID:-//ChamberMaster//Event Calendar 2.0//EN
METHOD:PUBLISH
X-PUBLISHED-TTL:P3D
REFRESH-INTERVAL:P3D
CALSCALE:GREGORIAN
BEGIN:VEVENT
DTSTART:20060816T153000Z
DTEND:20060816T170000Z
X-MICROSOFT-CDO-ALLDAYEVENT:FALSE
SUMMARY:August Chamber Luncheon at BPRD Community Center
DESCRIPTION:
X-ALT-DESC;FMTTYPE=text/html:
LOCATION:111 Eastern Avenue\, Brownsburg\, IN 46112 located at 111 Eastern Ave.\, Brownsburg. Featured speakers will be Brownsburg Parks and Recreation Staff. The cost is $10 per person and reservations are required. Call 852-7885 to make your reservations today.
UID:e.2778.285
SEQUENCE:3
DTSTAMP:20260424T113946Z
URL:https://www.brownsburg.com/events/details/august-chamber-luncheon-at-bprd-community-center-08-16-2006-285
END:VEVENT

END:VCALENDAR
