BEGIN:VCALENDAR
VERSION:2.0
PRODID:-//ChamberMaster//Event Calendar 2.0//EN
METHOD:PUBLISH
X-PUBLISHED-TTL:P3D
REFRESH-INTERVAL:P3D
CALSCALE:GREGORIAN
BEGIN:VEVENT
DTSTART:20060725T153000Z
DTEND:20060725T170000Z
X-MICROSOFT-CDO-ALLDAYEVENT:FALSE
SUMMARY:August Chamber Luncheon at Community Center!
DESCRIPTION:
X-ALT-DESC;FMTTYPE=text/html:
LOCATION:111 Eastern Avenue\, Brownsburg\, IN 46112 Brownsburg Parks 111 Eastern Avenue. The cost is $10 per person and reservations are required!
UID:e.2778.284
SEQUENCE:3
DTSTAMP:20260424T125530Z
URL:https://www.brownsburg.com/events/details/august-chamber-luncheon-at-community-center-07-25-2006-284
END:VEVENT

END:VCALENDAR
