BEGIN:VCALENDAR
VERSION:2.0
PRODID:-//ChamberMaster//Event Calendar 2.0//EN
METHOD:PUBLISH
X-PUBLISHED-TTL:P3D
REFRESH-INTERVAL:P3D
CALSCALE:GREGORIAN
BEGIN:VEVENT
DTSTART:20060820T120000Z
DTEND:20060820T200000Z
X-MICROSOFT-CDO-ALLDAYEVENT:FALSE
SUMMARY:B & S Kennels 13th Annual Animal Shelter Charity Car Show -- FINAL EVENT
DESCRIPTION:Dash Plaques and Event T-shirt for 1st 400 Entries.  Awards to top 100 Entries.  Registration is a $15.00 donation\, but more is always accepted!50/50 drawing will be done at 4pm awards ceremony!  Last year it was for $3400!!!!\n\nThey are still accepting sponsors.  For information call Red or Bonnie Bledsoe or Kyle McInnes at (317) 272-2206 or Brian Whitis at (317) 718-9999.
X-ALT-DESC;FMTTYPE=text/html:Dash Plaques and Event T-shirt for 1st 400 Entries.  Awards to top 100 Entries.  Registration is a $15.00 donation\, but more is always accepted!50/50 drawing will be done at 4pm awards ceremony!  Last year it was for $3400!!!!\n\nThey are still accepting sponsors.  For information call Red or Bonnie Bledsoe or Kyle McInnes at (317) 272-2206 or Brian Whitis at (317) 718-9999.
LOCATION:Avon to Old 36\, west to 450 E\, turn right\, go north 3/8 of a mile. Customs\, Street Rods\, Antiques\, Mini Trucks\, Big Trucks\, Motorcycles and you name it! Registration is a $15 donation\, but more will be accepted. Dash plaques and event T-shirts for first 400 entries. All proceeds go to the animal shelter. This is the last year for this event.
UID:e.2778.208
SEQUENCE:3
DTSTAMP:20260424T114455Z
URL:https://www.brownsburg.com/events/details/b-s-kennels-13th-annual-animal-shelter-charity-car-show-final-event-08-20-2006-208
END:VEVENT

END:VCALENDAR
