BEGIN:VCALENDAR
VERSION:2.0
PRODID:-//ChamberMaster//Event Calendar 2.0//EN
METHOD:PUBLISH
X-PUBLISHED-TTL:P3D
REFRESH-INTERVAL:P3D
CALSCALE:GREGORIAN
BEGIN:VEVENT
DTSTART:20060819T210000Z
DTEND:20060819T230000Z
X-MICROSOFT-CDO-ALLDAYEVENT:FALSE
SUMMARY:B & S Kennels Cruise-in at Frost Bite in Avon
DESCRIPTION:
X-ALT-DESC;FMTTYPE=text/html:
LOCATION:7025 Galen Drive West\, Avon\, IN 46123 7025 Galen Drive West\; Avon. Hot rods\, street rods\, rest-o-rods! This is the last weekend ever for the B & S Kennel Animal Shelter Charity Car Show.
UID:e.2778.206
SEQUENCE:3
DTSTAMP:20260424T125645Z
URL:https://www.brownsburg.com/events/details/b-s-kennels-cruise-in-at-frost-bite-in-avon-08-19-2006-206
END:VEVENT

END:VCALENDAR
