BEGIN:VCALENDAR
VERSION:2.0
PRODID:-//ChamberMaster//Event Calendar 2.0//EN
METHOD:PUBLISH
X-PUBLISHED-TTL:P3D
REFRESH-INTERVAL:P3D
CALSCALE:GREGORIAN
BEGIN:VEVENT
DTSTART;VALUE=DATE:20060819
DTEND;VALUE=DATE:20060820
TRANSP:TRANSPARENT
X-MICROSOFT-CDO-ALLDAYEVENT:TRUE
SUMMARY:B & S Kennels Drive-In Movie
DESCRIPTION:
X-ALT-DESC;FMTTYPE=text/html:
LOCATION:Avon to Old 36\, west to 450 E\, turn right\, go north 3/8 of a mile. Movie will be "Smokey and the Bandit" (PG).
UID:e.2778.207
SEQUENCE:3
DTSTAMP:20260424T114100Z
URL:https://www.brownsburg.com/events/details/b-s-kennels-drive-in-movie-08-19-2006-207
END:VEVENT

END:VCALENDAR
