BEGIN:VCALENDAR
VERSION:2.0
PRODID:-//ChamberMaster//Event Calendar 2.0//EN
METHOD:PUBLISH
X-PUBLISHED-TTL:P3D
REFRESH-INTERVAL:P3D
CALSCALE:GREGORIAN
BEGIN:VEVENT
DTSTART:20081115T140000Z
DTEND:20081115T200000Z
X-MICROSOFT-CDO-ALLDAYEVENT:FALSE
SUMMARY:Bazaar & Craft Sale
DESCRIPTION:FREE ADMISSION! Gift Baskets* Jewelry* Candles* Holiday Items* Yard Signs* Scrapbooking needs* Ceramics* Crafts & More*\n\nEnjoy a delicious lunch~ Choose from homemade chicken & noodle dinner\, chicken salad sandwiches\, vegetable soup and other treats!
X-ALT-DESC;FMTTYPE=text/html:FREE ADMISSION! Gift Baskets* Jewelry* Candles* Holiday Items* Yard Signs* Scrapbooking needs* Ceramics* Crafts & More*\n\nEnjoy a delicious lunch~ Choose from homemade chicken & noodle dinner\, chicken salad sandwiches\, vegetable soup and other treats!
LOCATION:Noll Hall\, 326 N. Green St\, Brownsburg\, IN 46112 Noll Hall\, 326 N. Green Street FREE Admission! Lots of venders and a raffle for a Hand Sewn Quilt & American Girl Doll
UID:e.2778.620
SEQUENCE:3
DTSTAMP:20260422T202238Z
URL:https://www.brownsburg.com/events/details/bazaar-craft-sale-11-15-2008-620
END:VEVENT

END:VCALENDAR
