BEGIN:VCALENDAR
VERSION:2.0
PRODID:-//ChamberMaster//Event Calendar 2.0//EN
METHOD:PUBLISH
X-PUBLISHED-TTL:P3D
REFRESH-INTERVAL:P3D
CALSCALE:GREGORIAN
BEGIN:VEVENT
DTSTART:20060321T224500Z
DTEND:20060322T013000Z
X-MICROSOFT-CDO-ALLDAYEVENT:FALSE
SUMMARY:BCSC-Long Range Planning Task Force Community Forum
DESCRIPTION:To encourage more community members to attend the Forum\, a chili dinner will be provided beginning at 5:45p.m. and childcare will be available.  The meeting will begin promptly at 6:30p.m. and will end no later than 8:30p.m.
X-ALT-DESC;FMTTYPE=text/html:To encourage more community members to attend the Forum\, a chili dinner will be provided beginning at 5:45p.m. and childcare will be available.  The meeting will begin promptly at 6:30p.m. and will end no later than 8:30p.m.\n\n
LOCATION:444 East Tilden Drive\, Brownsburg\, IN 46112 East Middle School. A chili dinner will be served at 5:45p.m. The meeting will begin promptly at 6:30p.m. Childcare will be provide.
UID:e.2778.157
SEQUENCE:3
DTSTAMP:20260424T191239Z
URL:https://www.brownsburg.com/events/details/bcsc-long-range-planning-task-force-community-forum-03-21-2006-157
END:VEVENT

END:VCALENDAR
