BEGIN:VCALENDAR
VERSION:2.0
PRODID:-//ChamberMaster//Event Calendar 2.0//EN
METHOD:PUBLISH
X-PUBLISHED-TTL:P3D
REFRESH-INTERVAL:P3D
CALSCALE:GREGORIAN
BEGIN:VEVENT
DTSTART;VALUE=DATE:20061021
DTEND;VALUE=DATE:20061022
TRANSP:TRANSPARENT
X-MICROSOFT-CDO-ALLDAYEVENT:TRUE
SUMMARY:BGSL Midnight Mush Ball Softball Tournament
DESCRIPTION:
X-ALT-DESC;FMTTYPE=text/html:
LOCATION:1001 S Odell St\, Brownsburg\, IN 46112 Round robin play to begin at 8:00 and end at???? $150 per team\, open to participants 18 po box 463\; Brownsburg\, in 46112. Visit www.brownsburgsoftball.com for more information.
UID:e.2778.354
SEQUENCE:3
DTSTAMP:20260424T085336Z
URL:https://www.brownsburg.com/events/details/bgsl-midnight-mush-ball-softball-tournament-10-21-2006-354
END:VEVENT

END:VCALENDAR
