BEGIN:VCALENDAR
VERSION:2.0
PRODID:-//ChamberMaster//Event Calendar 2.0//EN
METHOD:PUBLISH
X-PUBLISHED-TTL:P3D
REFRESH-INTERVAL:P3D
CALSCALE:GREGORIAN
BEGIN:VEVENT
DTSTART:20060626T210000Z
DTEND:20060626T210000Z
X-MICROSOFT-CDO-ALLDAYEVENT:FALSE
SUMMARY:BHS Baseball's 100-Inning-A-Thon Fundraiser for Bret Neylon
DESCRIPTION:The Brownsburg HS baseball team will be playing a 100-Inning-A-Thon next\nMonday at 5p.m. at Mary Beth Rose Park. Players will be looking for\ndonations (penny an inning\, dime an inning\, dollar an inning\, etc... or\njust a flat sum). You can stop by the game anytime to drop off your\ndonation or send it to me here at the high school asap. Make check out\nto Brownsburg Summer Baseball and on the bottom of the check put it in\ncare of Bret Neylon. Thank you very much for your support and\nkindness.  Pat O'Neil\, Health/Peer Facilitator and Varsity Baseball Coach at BHS--317-852-2258 ext 2094 or poneil@brownsburg.k12.in.us
X-ALT-DESC;FMTTYPE=text/html:The Brownsburg HS baseball team will be playing a 100-Inning-A-Thon next\nMonday at 5p.m. at Mary Beth Rose Park. Players will be looking for\ndonations (penny an inning\, dime an inning\, dollar an inning\, etc... or\njust a flat sum). You can stop by the game anytime to drop off your\ndonation or send it to me here at the high school asap. Make check out\nto Brownsburg Summer Baseball and on the bottom of the check put it in\ncare of Bret Neylon. Thank you very much for your support and\nkindness.  Pat O'Neil\, Health/Peer Facilitator and Varsity Baseball Coach at BHS--317-852-2258 ext 2094 or poneil@brownsburg.k12.in.us\n
LOCATION:At Mary Beth Rose Park. Players are looking for donations (penny an inning\, dime an inning\, dollar an inning\, etc... or just a flat sum). You can stop by the game anytime to drop off your donation or send it to me here at the high school asap. Make check out to Brownsburg Summer Baseball and on the bottom of the check put it in care of Bret Neylon. Thank you very much for your support and kindness.
UID:e.2778.267
SEQUENCE:3
DTSTAMP:20260424T142532Z
URL:https://www.brownsburg.com/events/details/bhs-baseball-s-100-inning-a-thon-fundraiser-for-bret-neylon-06-26-2006-267
END:VEVENT

END:VCALENDAR
