BEGIN:VCALENDAR
VERSION:2.0
PRODID:-//ChamberMaster//Event Calendar 2.0//EN
METHOD:PUBLISH
X-PUBLISHED-TTL:P3D
REFRESH-INTERVAL:P3D
CALSCALE:GREGORIAN
BEGIN:VEVENT
DTSTART;VALUE=DATE:20060512
DTEND;VALUE=DATE:20060514
TRANSP:TRANSPARENT
X-MICROSOFT-CDO-ALLDAYEVENT:TRUE
SUMMARY:BHS Musical--Funny Girl
DESCRIPTION:
X-ALT-DESC;FMTTYPE=text/html:
LOCATION:1000 South Odell\, Brownsburg\, IN 46112 at Brownsburg High School\; 1000 South Odell.
UID:e.2778.203
SEQUENCE:3
DTSTAMP:20260424T160453Z
URL:https://www.brownsburg.com/events/details/bhs-musical-funny-girl-05-12-2006-203
END:VEVENT

END:VCALENDAR
