BEGIN:VCALENDAR
VERSION:2.0
PRODID:-//ChamberMaster//Event Calendar 2.0//EN
METHOD:PUBLISH
X-PUBLISHED-TTL:P3D
REFRESH-INTERVAL:P3D
CALSCALE:GREGORIAN
BEGIN:VEVENT
DTSTART:20061114T230000Z
DTEND:20061115T010000Z
X-MICROSOFT-CDO-ALLDAYEVENT:FALSE
SUMMARY:Bill Estes Ford Open House
DESCRIPTION:
X-ALT-DESC;FMTTYPE=text/html:
LOCATION:450 East Northfield Drive\, Brownsburg\, IN 46112 at the dealership located at 450 E. Northfield Dr. Come network\, share ideas and learn about different businesses in the area. Members and nonmembers are welcome. Sponsored by the Brownsburg Chamber of Commerce.
UID:e.2778.362
SEQUENCE:3
DTSTAMP:20260424T071140Z
URL:https://www.brownsburg.com/events/details/bill-estes-ford-open-house-11-14-2006-362
END:VEVENT

END:VCALENDAR
