BEGIN:VCALENDAR
VERSION:2.0
PRODID:-//ChamberMaster//Event Calendar 2.0//EN
METHOD:PUBLISH
X-PUBLISHED-TTL:P3D
REFRESH-INTERVAL:P3D
CALSCALE:GREGORIAN
BEGIN:VEVENT
DTSTART:20260410T220000Z
DTEND:20260411T020000Z
X-MICROSOFT-CDO-ALLDAYEVENT:FALSE
SUMMARY:BINGO BONANZA BY SERTOMA
DESCRIPTION:3rd annual event. Fun event and cash pay outs are numerous with 18 games with 6 Bingo Cards $1\,500 payout. Reverse Raffle $20. (need not be present to win) - Grand prize $1\,500.\n\nFunds go into our general fund and also help needy local youngsters with mental health problems.\n\nSertoma of Brownsburg has an established fund at Care to Change Counseling to help provide these youth services.\n\nWe will also contribute to Family Promise\, assisting homeless in Hendricks County.\n\nAttached Flyer has all details.
X-ALT-DESC;FMTTYPE=text/html:3rd annual event. Fun event and cash pay outs are numerous with 18 games with 6 Bingo Cards $1\,500 payout. Reverse Raffle $20. (need not be present to win) - Grand prize $1\,500.<br />\nFunds go into our general fund and also help needy local youngsters with mental health problems.<br />\nSertoma of Brownsburg has an established fund at Care to Change Counseling to help provide these youth services.<br />\nWe will also contribute to Family Promise\, assisting homeless in Hendricks County.<br />\nAttached Flyer has all details.
LOCATION:American Legion Post 331 636 East Main Street Brownsburg\, IN 46112
UID:e.2778.9195
SEQUENCE:3
DTSTAMP:20260425T001903Z
URL:https://www.brownsburg.com/events/details/bingo-bonanza-by-sertoma-04-10-2026-9195
END:VEVENT

END:VCALENDAR
