BEGIN:VCALENDAR
VERSION:2.0
PRODID:-//ChamberMaster//Event Calendar 2.0//EN
METHOD:PUBLISH
X-PUBLISHED-TTL:P3D
REFRESH-INTERVAL:P3D
CALSCALE:GREGORIAN
BEGIN:VEVENT
DTSTART:20061007T213000Z
DTEND:20061007T213000Z
X-MICROSOFT-CDO-ALLDAYEVENT:FALSE
SUMMARY:Blowout Benefit to support the Hendricks County Animal Shelter
DESCRIPTION:Attention Hendricks County friends and business owners:\n\n \n\nPut on your black dress (ok\, men\, you don't have to) and dancing shoes and leave the kids at home for a great evening of fun and community support at the first annual BLOWOUT Benefit to be held on Saturday\, October 7\, 2006 at the Primo Banquet Center in Plainfield.  The benefit will help support the much needed new animal shelter in Hendricks County. \n\n \n\nHosted by Avant Gard Salon in Avon\, the evening will include a cocktail hour\, formal dinner\, silent auction and a spectacular performance by Avant Gard. The event will conclude with dancing the night away. Our hope is that you will take the opportunity to be present and be a part of this groundbreaking annual event. \n\n \n\nPlease call the salon as soon as possible to reserve your tickets and be a part of this special evening\, 272-7660. You can also contribute to the silent auction. More details can be found below:\n\n \n\nAvant Gard Salon\n\nPresents\n\nBLOWOUT BENEFIT\n\nSaturday\n\nOctober 7\, 2006\n\n5:30 PM\n\nPrimo Banquet Center\n\n2353 Hadley Road\, Plainfield\n\n \n\nTICKET PRICES\n\nPremium Table - $500.00\n\nStandard Table - $475.00\n\nIndividual Tickets - $65.00\n\n \n\nCALL AVANT GARD SALON TO BUY \n\nYOUR TICKETS TODAY – 272-7660\n\n \n\nSILENT AUCTION\n\nMuch needed items may be donated for the silent auction\n\nby contacting Tammy Rabe\, Avatar Communications\n\ntrabe@avatarpr.com  / 317-837-9832 ext. 13\n\n \n\n \n\nEvening Line Up\n\n5:30 – 6:30  Social Hour featuring a live band\n\n6:30 – 8:00  Formal Dinner\n\n8:00 – 8:30  Avant Gard performance\n\n8:30 – 9:00  Silent Auction\n\n9:00 -  til you drop -  Dance the night away / DJ Orion / Cash Bar\n\n \n\nPlease open your hearts to help out this organization and open your minds to having an evening of fun.
X-ALT-DESC;FMTTYPE=text/html:Attention Hendricks County friends and business owners:\n\n \n\nPut on your black dress (ok\, men\, you don't have to) and dancing shoes and leave the kids at home for a great evening of fun and community support at the first annual BLOWOUT Benefit to be held on Saturday\, October 7\, 2006 at the Primo Banquet Center in Plainfield.  The benefit will help support the much needed new animal shelter in Hendricks County. \n\n \n\nHosted by Avant Gard Salon in Avon\, the evening will include a cocktail hour\, formal dinner\, silent auction and a spectacular performance by Avant Gard. The event will conclude with dancing the night away. Our hope is that you will take the opportunity to be present and be a part of this groundbreaking annual event. \n\n \n\nPlease call the salon as soon as possible to reserve your tickets and be a part of this special evening\, 272-7660. You can also contribute to the silent auction. More details can be found below:\n\n \n\nAvant Gard Salon\n\nPresents\n\nBLOWOUT BENEFIT\n\nSaturday\n\nOctober 7\, 2006\n\n5:30 PM\n\nPrimo Banquet Center\n\n2353 Hadley Road\, Plainfield\n\n \n\nTICKET PRICES\n\nPremium Table - $500.00\n\nStandard Table - $475.00\n\nIndividual Tickets - $65.00\n\n \n\nCALL AVANT GARD SALON TO BUY \n\nYOUR TICKETS TODAY – 272-7660\n\n \n\nSILENT AUCTION\n\nMuch needed items may be donated for the silent auction\n\nby contacting Tammy Rabe\, Avatar Communications\n\ntrabe@avatarpr.com  / 317-837-9832 ext. 13\n\n \n\n \n\nEvening Line Up\n\n5:30 – 6:30  Social Hour featuring a live band\n\n6:30 – 8:00  Formal Dinner\n\n8:00 – 8:30  Avant Gard performance\n\n8:30 – 9:00  Silent Auction\n\n9:00 -  til you drop -  Dance the night away / DJ Orion / Cash Bar\n\n \n\nPlease open your hearts to help out this organization and open your minds to having an evening of fun.\n\n
LOCATION:2353 Hadley Road\, Plainfield\, IN 46168 Primo's Banquet Center\; Plainfield. Hosted by Avant Gard Salon in Avon. Put on your black dress (ok\, men\, you don’t have to) and dancing shoes and leave the kids at home for a great evening of fun and community support at the first annual BLOWOUT Benefit to be held on Saturday\, October 7\, 2006 at the Primo Banquet Center in Plainfield. The benefit will help support the much needed new animal shelter in Hendricks County. The evening will include a cocktail hour\, formal dinner\, silent auction and a spectacular performance by Avant Gard. The event will conclude with dancing the night away. Our hope is that you will take the opportunity to be present and be a part of this groundbreaking annual event. Please call the salon as soon as possible to reserve your tickets and be a part of this special evening\, 272-7660. You can also contribute to the silent auction.
UID:e.2778.343
SEQUENCE:3
DTSTAMP:20260424T085504Z
URL:https://www.brownsburg.com/events/details/blowout-benefit-to-support-the-hendricks-county-animal-shelter-10-07-2006-343
END:VEVENT

END:VCALENDAR
