BEGIN:VCALENDAR
VERSION:2.0
PRODID:-//ChamberMaster//Event Calendar 2.0//EN
METHOD:PUBLISH
X-PUBLISHED-TTL:P3D
REFRESH-INTERVAL:P3D
CALSCALE:GREGORIAN
BEGIN:VEVENT
DTSTART:20060909T003000Z
DTEND:20060909T003000Z
X-MICROSOFT-CDO-ALLDAYEVENT:FALSE
SUMMARY:BPRD's Movie in the Park -- Harry Potter & the Goblet of Fire
DESCRIPTION:This summer\, the Brownsburg Parks and Recreation Department will once again be hosting the annual 2006 Movies in the Park.  Community members are encouraged to bring their families and enjoy these wonderful shows.  There is no charge to attend.  \n\nThe 2006 Movies in the Park Series will take place at Arbuckle Acres Park on the following dates:  \n\nFriday\, August 18\, 2006--King Kong--9:00 p.m.    Friday\, September 8\, 2006--Harry Potter & the Goblet of Fire--8:30 p.m.     Friday\, September 29\, 2006--Madagascar--8:00 p.m.  \n\nThe Brownsburg Parks & Recreation Department provides a variety of opportunities for residents and visitors to the community to enjoy the natural beauty of Hendricks County.  Visit one of our five major parks or participate in one of our many programs this summer\, fall\, winter or spring.  For more information\, please contact us at 317.852.0595 or our website at www.brownsburg.org
X-ALT-DESC;FMTTYPE=text/html:This summer\, the Brownsburg Parks and Recreation Department will once again be hosting the annual 2006 Movies in the Park.  Community members are encouraged to bring their families and enjoy these wonderful shows.  There is no charge to attend.  \n\nThe 2006 Movies in the Park Series will take place at Arbuckle Acres Park on the following dates:  \n\nFriday\, August 18\, 2006--King Kong--9:00 p.m.    Friday\, September 8\, 2006--Harry Potter & the Goblet of Fire--8:30 p.m.     Friday\, September 29\, 2006--Madagascar--8:00 p.m.  \n\nThe Brownsburg Parks & Recreation Department provides a variety of opportunities for residents and visitors to the community to enjoy the natural beauty of Hendricks County.  Visit one of our five major parks or participate in one of our many programs this summer\, fall\, winter or spring.  For more information\, please contact us at 317.852.0595 or our website at www.brownsburg.org 
LOCATION:200 N. Green Street\, Brownsburg\, IN 46112 The Brownsburg Parks and Recreation Department will once again be hosting the annual 2006 Movies in the Park. Community members are encouraged to bring their families and enjoy these wonderful shows. There is no charge to attend. The 2006 Movies in the Park Series will take place at Arbuckle Acres Park.
UID:e.2778.263
SEQUENCE:3
DTSTAMP:20260424T100743Z
URL:https://www.brownsburg.com/events/details/bprd-s-movie-in-the-park-harry-potter-the-goblet-of-fire-09-08-2006-263
END:VEVENT

END:VCALENDAR
