BEGIN:VCALENDAR
VERSION:2.0
PRODID:-//ChamberMaster//Event Calendar 2.0//EN
METHOD:PUBLISH
X-PUBLISHED-TTL:P3D
REFRESH-INTERVAL:P3D
CALSCALE:GREGORIAN
BEGIN:VEVENT
DTSTART:20090515T233000Z
DTEND:20090515T233000Z
X-MICROSOFT-CDO-ALLDAYEVENT:FALSE
SUMMARY:Brahm's Requiem - Hendricks Symphonic Society
DESCRIPTION:
X-ALT-DESC;FMTTYPE=text/html:
LOCATION:7199 E. US Hwy 36\, Avon\, IN 46123 At Avon Middle School. Tickets available at the door\; season tickets available online at www.HendricksSymphonic.com.
UID:e.2778.596
SEQUENCE:3
DTSTAMP:20260422T114557Z
URL:https://www.brownsburg.com/events/details/brahm-s-requiem-hendricks-symphonic-society-05-15-2009-596
END:VEVENT

END:VCALENDAR
