BEGIN:VCALENDAR
VERSION:2.0
PRODID:-//ChamberMaster//Event Calendar 2.0//EN
METHOD:PUBLISH
X-PUBLISHED-TTL:P3D
REFRESH-INTERVAL:P3D
CALSCALE:GREGORIAN
BEGIN:VEVENT
DTSTART;VALUE=DATE:20081206
DTEND;VALUE=DATE:20081207
TRANSP:TRANSPARENT
X-MICROSOFT-CDO-ALLDAYEVENT:TRUE
SUMMARY:Breakfast with Santa
DESCRIPTION:Reservation forms may be downloaded from web site http://staffweb.brownsburg.k12.in.us/~msnuffin\n\nTickets $8 per person and includes a full breakfast of French toast sticks\, scrambled eggs\, sausage links\, orange juice and coffee or milk\, craft tickets and complimentary holiday music performed live by Brownsburg band students and directors.  Pictures with Santa are available and activities include and instrument "petting zoo"\, cookie decorating\, face painting\, craft stations and a Santa Shoppe.  Contact Peppy Parsey 852-3032 for more information
X-ALT-DESC;FMTTYPE=text/html:Reservation forms may be downloaded from web site http://staffweb.brownsburg.k12.in.us/~msnuffin\n\nTickets $8 per person and includes a full breakfast of French toast sticks\, scrambled eggs\, sausage links\, orange juice and coffee or milk\, craft tickets and complimentary holiday music performed live by Brownsburg band students and directors.  Pictures with Santa are available and activities include and instrument "petting zoo"\, cookie decorating\, face painting\, craft stations and a Santa Shoppe.  Contact Peppy Parsey 852-3032 for more information
LOCATION:Brownsburg Band Boosters Musical Breakfast at the Brownsburg West Middle School. Reservations are due November 21st. Session I 7a.m. to 10a.m. & Session II 10:30a.m. to 1:30 p.m. contact Peppy Parsey\, 852-3032
UID:e.2778.631
SEQUENCE:3
DTSTAMP:20260422T191122Z
URL:https://www.brownsburg.com/events/details/breakfast-with-santa-12-06-2008-631
END:VEVENT

END:VCALENDAR
