BEGIN:VCALENDAR
VERSION:2.0
PRODID:-//ChamberMaster//Event Calendar 2.0//EN
METHOD:PUBLISH
X-PUBLISHED-TTL:P3D
REFRESH-INTERVAL:P3D
CALSCALE:GREGORIAN
BEGIN:VEVENT
DTSTART:20090221T150000Z
DTEND:20090221T190000Z
X-MICROSOFT-CDO-ALLDAYEVENT:FALSE
SUMMARY:Brides To Be Expo
DESCRIPTION:The Brides to be Section will publish Thursday\, February 19th in the Hendricks County Flyer and Monday\, February 16th in the Westside Flyer  and Deadline is Friday\, January 23rd     Please Contact 272-5800
X-ALT-DESC;FMTTYPE=text/html:The Brides to be Section will publish Thursday\, February 19th in the Hendricks County Flyer and Monday\, February 16th in the Westside Flyer  and Deadline is Friday\, January 23rd     Please Contact 272-5800
LOCATION:8109 Kingston Street\, Ste. 500\, Avon\, IN 46123 Primo in Plainfield First 100 brides in attendance will receive a fee wedding planner.
UID:e.2778.634
SEQUENCE:3
DTSTAMP:20260422T161039Z
URL:https://www.brownsburg.com/events/details/brides-to-be-expo-02-21-2009-634
END:VEVENT

END:VCALENDAR
