BEGIN:VCALENDAR
VERSION:2.0
PRODID:-//ChamberMaster//Event Calendar 2.0//EN
METHOD:PUBLISH
X-PUBLISHED-TTL:P3D
REFRESH-INTERVAL:P3D
CALSCALE:GREGORIAN
BEGIN:VEVENT
DTSTART:20220923T223000Z
DTEND:20220924T000000Z
X-MICROSOFT-CDO-ALLDAYEVENT:FALSE
SUMMARY:Brightly Art Studio Concrete Pumpkin Planter: Adult Workshop
DESCRIPTION:Who's ready for spooky season!? We are!\n\n \n\nJoin us for an evening of concrete mixing and pouring! In this 2-hour workshop\, artists will create a large pumpkin-shaped concrete planter that you'll love to display on your porch all fall. We'll customize our planters with colorful concrete. Our sparkly instructor will provide tips\, tricks\, and loads of encouragement.\n\nCome have some fun\, learn something new\, and make something beautiful!  A perfect activity for a night with friends!
X-ALT-DESC;FMTTYPE=text/html:<p>Who&#39\;s ready for spooky season!? We are!</p>\n\n<p>&nbsp\;</p>\n\n<p>Join us for an evening of concrete mixing and pouring! In this 2-hour workshop\, artists will create a large pumpkin-shaped concrete planter that you&rsquo\;ll love to display on your porch all fall. We&rsquo\;ll customize our planters with colorful concrete. Our sparkly instructor will provide tips\, tricks\, and loads of encouragement.</p>\n\n<p>Come have some fun\, learn something new\, and make something beautiful! &nbsp\;A perfect activity for a night with friends!</p>\n\n<p>&nbsp\;</p>\n
LOCATION:
UID:e.2778.7601
SEQUENCE:3
DTSTAMP:20260420T132604Z
URL:https://www.brownsburg.com/events/details/brightly-art-studio-concrete-pumpkin-planter-adult-workshop-7601
END:VEVENT

END:VCALENDAR
